Workbook

Sheet Feedback wizard
A1: ID | B1: ID | C1: ID | D1: ID | E1: ID | F1: Avis sur | G1: Texte de l'article / informations complémentaires | H1: Sélectionner une réponse | I1: Contre-proposition (en cas d'« approbation avec modification » ou de « rejet ») | J1: Explication / Remarque | K1: Sélectionner une réponse
A2: 3b27f4cb4c17b812613e30ef13335612587f13a4f33b1f7cba29d4c18aeb9260 | B2: 82249 | C2: 1336 | F2: Avis général | H2: Avis plutôt favorable | J2: Nous vous remercions vivement de nous avoir donné la possibilité de prendre position sur la consultation susmentionnée. Après examen du projet de consultation visant à modifier la LPTh, le canton de Vaud prend position comme suit sur les points essentiels. Le projet est globalement bien accueilli, dans la mesure où il renforce la sécurité de l’approvisionnement, préserve la sécurité des patients et n’alourdit pas inutilement la charge administrative au niveau cantonal. Des modifications sont proposées dans le cadre de la vente par correspondance et de la fabrication en cas de pénurie. Le canton de Vaud soutient en principe l’orientation générale du projet. Du point de vue cantonal, les priorités sont les suivantes : garantir des exigences de qualité équivalentes dans la vente par correspondance, éviter les incitations inopportunes liées aux solutions d’importation, assurer une implication appropriée des cantons dans l’évaluation des situations de pénurie, limiter les prescriptions chiropratiques dans le respect de la sécurité juridique, ainsi que garantir une rémunération proportionnée et couvrant les coûts pour la délivrance à l’unité. La délivrance à l’unité doit être utilisée de manière ciblée et ne pas se substituer aux déficits structurels liés aux tailles d’emballage. À cette fin, les processus d’autorisation et de rémunération doivent être adaptés en conséquence. | K2: =IFERROR(VLOOKUP(H2,Sheet1!A2:B7,2,FALSE), "") -> RATHER_AGREEMENT
A3: 3b27f4cb4c17b812613e30ef13335612587f13a4f33b1f7cba29d4c18aeb9260 | B3: 82249 | C3: 1336 | E3: 48019 | F3: Loi fédérale sur les médicaments et les dispositifs médicaux (Loi sur les produits thérapeutiques, LPTh) | G3: Modification du … L’Assemblée fédérale de la Confédération suisse, vu le message du Conseil fédéral du …, arrête: | H3: Avis favorable | I3: Modification du … L’Assemblée fédérale de la Confédération suisse, vu le message du Conseil fédéral du …, arrête: | K3: =IFERROR(VLOOKUP(H3,Sheet2!A2:B6,2,FALSE), "") -> CONSENT
A4: 3b27f4cb4c17b812613e30ef13335612587f13a4f33b1f7cba29d4c18aeb9260 | B4: 82249 | C4: 1336 | E4: 48020 | F4: I | G4: La loi du 15 décembre 2000 sur les produits thérapeutiques est modifiée comme suit: | H4: Avis favorable | I4: La loi du 15 décembre 2000 sur les produits thérapeutiques est modifiée comme suit: | K4: =IFERROR(VLOOKUP(H4,Sheet2!A2:B6,2,FALSE), "") -> CONSENT
A5: 3b27f4cb4c17b812613e30ef13335612587f13a4f33b1f7cba29d4c18aeb9260 | B5: 82249 | C5: 1336 | E5: 48021 | F5: Art. 4, al. 1, phrase introductive et let. c | G5: 1 On entend par: c. fabrication: toutes les étapes de la production des produits thérapeutiques, de l’acquisition des matériaux de base à la livraison du produit fini, en passant par la préparation, le conditionnement et le stockage, ainsi que les contrôles de qualité et la libération des lots; le retrait d’unités de médicaments de l’emballage original et leur préparation en vue de leur remise à l’unité ne relèvent pas de la fabrication, pour autant que le conditionnement primaire demeure intact; | H5: Avis favorable moyennant modifications | I5: 1 On entend par: c. fabrication: : l'ensemble des opérations liées à la production de médicaments, depuis l'approvisionnement en matières premières jusqu'au conditionnement, au stockage et à la livraison du produit fini, en passant par la transformation, ainsi que les contrôles de qualité et les validations. Sont exclues de la notion de «fabrication» la préparation à l'administration de médicaments spécifiques à un patient en vue d'une utilisation immédiate, ainsi que la préparation en vue de la remise au sens de l'article 30a. | J5: La modification proposée permet aux médecins de remettre des médicaments à l'unité sans que cette activité soit considérée comme une fabrication. Il conviendrait toutefois de préciser explicitement que le reconditionnement de médicaments figurant sur la liste de l'OFSP, lorsqu'il a pour objectif d'adapter la taille de l'emballage à la durée du traitement ou de pallier à une pénurie, n'est pas considéré comme une activité de fabrication. Cette mesure permet de maintenir la préparation des semainiers par les pharmacies dans le champ des activités de fabrication. | K5: =IFERROR(VLOOKUP(H5,Sheet2!A2:B6,2,FALSE), "") -> CONSENT_WITH_ADAPTATION
A6: 3b27f4cb4c17b812613e30ef13335612587f13a4f33b1f7cba29d4c18aeb9260 | B6: 82249 | C6: 1336 | E6: 48022 | F6: Art. 9b, titre | G6: Autorisation à durée limitée d’utilisation de médicaments visés à l’art. 9, al. 2, let. d, et autorisation de mise sur le marché limitée | H6: Avis favorable | I6: Autorisation à durée limitée d’utilisation de médicaments visés à l’art. 9, al. 2, let. d, et autorisation de mise sur le marché limitée | K6: =IFERROR(VLOOKUP(H6,Sheet2!A2:B6,2,FALSE), "") -> CONSENT
A7: 3b27f4cb4c17b812613e30ef13335612587f13a4f33b1f7cba29d4c18aeb9260 | B7: 82249 | C7: 1336 | E7: 48023 | F7: Art. 9b, al. 2, phrase introductive | G7: 2 Pour pallier une non-disponibilité temporaire d’un médicament autorisé en Suisse, il peut autoriser, pour une durée ou une quantité limitées, la mise sur le marché d’un médicament identique non autorisé en Suisse provenant du même titulaire d’autorisation: | H7: Avis favorable | I7: 2 Pour pallier une non-disponibilité temporaire d’un médicament autorisé en Suisse, il peut autoriser, pour une durée ou une quantité limitées, la mise sur le marché d’un médicament identique non autorisé en Suisse provenant du même titulaire d’autorisation: | K7: =IFERROR(VLOOKUP(H7,Sheet2!A2:B6,2,FALSE), "") -> CONSENT
A8: 3b27f4cb4c17b812613e30ef13335612587f13a4f33b1f7cba29d4c18aeb9260 | B8: 82249 | C8: 1336 | E8: 48024 | F8: Art. 9b, al. 3 | G8: 3 En cas de pénurie imminente ou déjà effective d’un médicament autorisé en Suisse, y compris en cas de non-disponibilité temporaire, il peut autoriser, pour une durée ou une quantité limitées, la mise sur le marché d’un médicament équivalent non autorisé en Suisse: a. si le médicament est autorisé dans un pays ayant institué un contrôle des médicaments équivalent; b. si le médicament est exclusivement composé de principes actifs connus et possède une forme galénique comparable à celle d’un médicament déjà autorisé, et c. si le requérant dispose des autorisations visées aux art. 18, al. 1, let. a, et 28. | H8: Avis favorable | I8: 3 En cas de pénurie imminente ou déjà effective d’un médicament autorisé en Suisse, y compris en cas de non-disponibilité temporaire, il peut autoriser, pour une durée ou une quantité limitées, la mise sur le marché d’un médicament équivalent non autorisé en Suisse: a. si le médicament est autorisé dans un pays ayant institué un contrôle des médicaments équivalent; b. si le médicament est exclusivement composé de principes actifs connus et possède une forme galénique comparable à celle d’un médicament déjà autorisé, et c. si le requérant dispose des autorisations visées aux art. 18, al. 1, let. a, et 28. | J8: Afin de rendre cette mesure pleinement efficace sur le terrain, les procédures d'octroi doivent être rapides. Les ordonnances devraient ainsi prévoir des procédures d'importation accélérées, notamment pour les vaccins et anti-infectieux vétérinaires critiques. | K8: =IFERROR(VLOOKUP(H8,Sheet2!A2:B6,2,FALSE), "") -> CONSENT
A9: 3b27f4cb4c17b812613e30ef13335612587f13a4f33b1f7cba29d4c18aeb9260 | B9: 82249 | C9: 1336 | E9: 48025 | F9: Art. 9b, al. 4 | G9: 4 Swissmedic publie une liste des pays ayant institué un contrôle des médicaments équivalent. | H9: Avis favorable | I9: 4 Swissmedic publie une liste des pays ayant institué un contrôle des médicaments équivalent. | K9: =IFERROR(VLOOKUP(H9,Sheet2!A2:B6,2,FALSE), "") -> CONSENT
A10: 3b27f4cb4c17b812613e30ef13335612587f13a4f33b1f7cba29d4c18aeb9260 | B10: 82249 | C10: 1336 | E10: 48026 | F10: Art. 9b, al. 5 | G10: 5 Lorsqu’il évalue les demandes pour une autorisation prévue à l’al. 3, Swissmedic se fonde sur l’appréciation de la Commission pour les situations de pénurie de médicaments instituée à l’art. 82b pour déterminer la présence d’une pénurie imminente ou déjà effective. | H10: Avis favorable moyennant modifications | I10: 5 Lorsqu’il évalue les demandes pour une autorisation prévue à l’al. 3, Swissmedic se fonde sur l’appréciation de la Commission pour les situations de pénurie de médicaments instituée à l’art. 82b pour déterminer la présence d’une pénurie imminente ou déjà effective.L’art. 9b, al. 5, devrait être complété comme suit : « À cet égard, Swissmedic tient compte de l’évaluation de la Commission chargée des pénuries de médicaments et vérifie si l’autorisation ne crée pas de fausses incitations pour l’approvisionnement régulier du marché suisse. » | J10: Des facilités d’importation peuvent créer des incitations indésirables involontaires. Si les titulaires d’autorisation ont la possibilité de pallier régulièrement les pénuries par des importations ou des préparations de substitution, cela pourrait réduire leur incitation à approvisionner le marché suisse de manière anticipée et suffisante. Il existerait alors un risque que les quantités produites et livrées à la Suisse soient à l’avenir planifiées de manière plus restreinte et que les pénuries d’approvisionnement s’aggravent même à long terme. La disposition dérogatoire ne doit donc pas relativiser la responsabilité normale des titulaires d’autorisation d’assurer un approvisionnement fiable du marché suisse. Lors de l’octroi d’autorisations au titre de l’art. 9b, Swissmedic doit vérifier si la mesure sert effectivement à pallier une situation d’approvisionnement exceptionnelle et ne constitue pas une solution de remplacement structurelle à un approvisionnement insuffisant du marché. | K10: =IFERROR(VLOOKUP(H10,Sheet2!A2:B6,2,FALSE), "") -> CONSENT_WITH_ADAPTATION
A11: 3b27f4cb4c17b812613e30ef13335612587f13a4f33b1f7cba29d4c18aeb9260 | B11: 82249 | C11: 1336 | E11: 48027 | F11: Art. 9cbis Mise sur le marché provisoire de médicaments par les pharmacies publiques, les pharmacies d’hôpital et la Pharmacie de l’armée sans autorisation en cas de pénurie | H11: Avis favorable moyennant modifications | J11: La possibilité pour les pharmacies publiques et les pharmacies hospitalières titulaires d’une autorisation de fabrication de fabriquer temporairement des médicaments équivalents et de les mettre sur le marché sans autorisation en cas de pénurie imminente ou avérée est soutenue. Elle peut contribuer à stabiliser l’approvisionnement, mais suppose des exigences de qualité claires. Par ailleurs, il conviendrait d’examiner si cette réglementation ne devrait pas être liée en premier lieu non pas à certains types d’établissements, mais à l’existence d’une autorisation de fabrication délivrée par Swissmedic et adaptée au médicament concerné ainsi qu’aux étapes de fabrication prévues. Cela permettrait, en cas de pénurie, d’impliquer tous les établissements disposant des compétences professionnelles et techniques requises, notamment les établissements de l’industrie pharmaceutique ou d’autres établissements titulaires d’une autorisation de fabrication correspondante. Cela permettrait de renforcer la sécurité d’approvisionnement sans pour autant abaisser les exigences de qualité. L’information des cantons revêt également une importance capitale. Swissmedic devrait informer les cantons concernés des décisions générales prévues au sens de l’art. 9c bis de la LPTh en temps utile, au plus tard toutefois au moment de leur adoption. | K11: =IFERROR(VLOOKUP(H11,Sheet2!A2:B6,2,FALSE), "") -> CONSENT_WITH_ADAPTATION
A12: 3b27f4cb4c17b812613e30ef13335612587f13a4f33b1f7cba29d4c18aeb9260 | B12: 82249 | C12: 1336 | E12: 48028 | F12: Art. 9cbis, al. 1 | G12: 1 En cas de pénurie imminente ou déjà effective d’un médicament autorisé en Suisse, y compris en cas de non-disponibilité temporaire, Swissmedic peut autoriser les pharmacies publiques et les pharmacies d’hôpital disposant d’une autorisation de fabrication de Swissmedic à fabriquer provisoirement des médicaments équivalents et à les mettre sur le marché sans autorisation, pour autant qu’ils soient exclusivement composés de principes actifs connus. | H12: Avis favorable | I12: 1 En cas de pénurie imminente ou déjà effective d’un médicament autorisé en Suisse, y compris en cas de non-disponibilité temporaire, Swissmedic peut autoriser les pharmacies publiques et les pharmacies d’hôpital disposant d’une autorisation de fabrication de Swissmedic à fabriquer provisoirement des médicaments équivalents et à les mettre sur le marché sans autorisation, pour autant qu’ils soient exclusivement composés de principes actifs connus. | J12: Au niveau de l’ordonnance, la notion de « médicaments équivalents » doit être précisée. Ainsi, l’exigence d’équivalence en matière de biodisponibilité et de stabilité ne serait, à notre avis, pas appropriée, car la mise sur le marché ne doit être que temporaire. Il convient en outre de préciser dans l’exposé des motifs que les pharmacies publiques et les pharmacies hospitalières peuvent également mandater des fabricants à façon titulaires d’une autorisation de fabrication délivrée par Swissmedic, sous réserve de l’approbation des produits par la pharmacie publique ou la pharmacie hospitalière en tant que donneur d’ordre. Par ailleurs, la disposition devrait être formulée en fonction de l’usage prévu. Ce n’est pas le type d’exploitation qui est déterminant, mais l’aptitude concrète de l’établissement à traiter le médicament concerné ainsi que l’existence d’une autorisation de fabrication Swissmedic appropriée. Ainsi, la participation des pharmacies publiques et des pharmacies hospitalières reste possible, tandis que d’autres établissements appropriés, notamment des fabricants industriels ou d’autres établissements agréés, peuvent également contribuer à l’approvisionnement si nécessaire. | K12: =IFERROR(VLOOKUP(H12,Sheet2!A2:B6,2,FALSE), "") -> CONSENT
A13: 3b27f4cb4c17b812613e30ef13335612587f13a4f33b1f7cba29d4c18aeb9260 | B13: 82249 | C13: 1336 | E13: 48029 | F13: Art. 9cbis, al. 2 | G13: 2 Dans ce but, Swissmedic prend une décision de portée générale pour chaque médicament. Pour déterminer la présence d’une pénurie imminente ou déjà effective, il se fonde sur l’appréciation de la Commission pour les situations de pénurie de médicaments instituée à l’art. 82b. Les décisions de portée générale sont publiées dans la Feuille fédérale. | H13: Avis favorable | I13: 2 Dans ce but, Swissmedic prend une décision de portée générale pour chaque médicament. Pour déterminer la présence d’une pénurie imminente ou déjà effective, il se fonde sur l’appréciation de la Commission pour les situations de pénurie de médicaments instituée à l’art. 82b. Les décisions de portée générale sont publiées dans la Feuille fédérale. | K13: =IFERROR(VLOOKUP(H13,Sheet2!A2:B6,2,FALSE), "") -> CONSENT
A14: 3b27f4cb4c17b812613e30ef13335612587f13a4f33b1f7cba29d4c18aeb9260 | B14: 82249 | C14: 1336 | E14: 48030 | F14: Art. 9cbis, al. 3 | G14: 3 Les pharmacies publiques et les pharmacies d’hôpital qui souhaitent fabriquer des médicaments et les mettre sur le marché sans autorisation conformément à l’al. 1 le déclarent à Swissmedic dans un délai d’une semaine. Si aucune déclaration n’est soumise pendant ce délai, la Pharmacie de l’armée peut fabriquer les médicaments et les mettre sur le marché sans autorisation, pour autant qu’il s’agisse de médicaments contre des maladies transmissibles, très répandues ou particulièrement dangereuses. | H14: Avis favorable moyennant modifications | I14: L’art. 9c bis, al. 3, doit être complété comme suit : « Swissmedic informe les cantons concernés des décisions générales et des déclarations reçues des établissements situés sur leur territoire. » | J14: L’information des cantons d’implantation est nécessaire pour que les autorités cantonales d’exécution puissent exercer correctement leurs tâches de surveillance et replacer dans leur contexte les éventuelles questions liées aux inspections, aux incidents ou aux procédures de rappel. | K14: =IFERROR(VLOOKUP(H14,Sheet2!A2:B6,2,FALSE), "") -> CONSENT_WITH_ADAPTATION
A15: 3b27f4cb4c17b812613e30ef13335612587f13a4f33b1f7cba29d4c18aeb9260 | B15: 82249 | C15: 1336 | E15: 48031 | F15: Art. 9cbis, al. 4 | G15: 4 Si la Pharmacie de l’armée fabrique des médicaments vitaux dans le cadre de mesures fondées sur la loi du 17 juin 2016 sur l’approvisionnement économique du pays, elle peut les mettre sur le marché sans autorisation. | H15: Avis favorable | I15: 4 Si la Pharmacie de l’armée fabrique des médicaments vitaux dans le cadre de mesures fondées sur la loi du 17 juin 2016 sur l’approvisionnement économique du pays, elle peut les mettre sur le marché sans autorisation. | K15: =IFERROR(VLOOKUP(H15,Sheet2!A2:B6,2,FALSE), "") -> CONSENT
A16: 3b27f4cb4c17b812613e30ef13335612587f13a4f33b1f7cba29d4c18aeb9260 | B16: 82249 | C16: 1336 | E16: 48032 | F16: Art. 9cbis, al. 5 | G16: 5 Les médicaments fabriqués conformément au présent article doivent être distribués par un grossiste titulaire d’une autorisation prévue à l’art. 28. | H16: Avis favorable | I16: 5 Les médicaments fabriqués conformément au présent article doivent être distribués par un grossiste titulaire d’une autorisation prévue à l’art. 28. | K16: =IFERROR(VLOOKUP(H16,Sheet2!A2:B6,2,FALSE), "") -> CONSENT
A17: 3b27f4cb4c17b812613e30ef13335612587f13a4f33b1f7cba29d4c18aeb9260 | B17: 82249 | C17: 1336 | E17: 48033 | F17: Art. 9cbis, al. 6 | G17: 6 Le Conseil fédéral fixe les exigences applicables à l’étiquetage et à l’information sur le médicament. | H17: Avis favorable moyennant modifications | I17: L’article 9cbis, alinéa 6, doit être formulé comme suit : « Le Conseil fédéral fixe les exigences en matière de fabrication, d’étiquetage, d’information sur les médicaments, de documentation, de pharmacovigilance, de traçabilité et de procédures de rappel. » | J17: Même en cas de pénurie, la fabrication, l’étiquetage, les informations relatives à la remise, la documentation, la pharmacovigilance, les procédures de rappel et la sécurité de la distribution doivent rester garantis. La norme de délégation prévue devrait donc couvrir expressément non seulement l’étiquetage et les informations sur les médicaments, mais aussi tous les éléments de qualité essentiels à l’application de la loi. | K17: =IFERROR(VLOOKUP(H17,Sheet2!A2:B6,2,FALSE), "") -> CONSENT_WITH_ADAPTATION
A18: 3b27f4cb4c17b812613e30ef13335612587f13a4f33b1f7cba29d4c18aeb9260 | B18: 82249 | C18: 1336 | E18: 48034 | F18: Art. 14, phrase introductive et al. 1, let. abis et ater | G18: 1 Swissmedic prévoit des procédures simplifiées d’autorisation de mise sur le marché pour certaines catégories de médicaments lorsque les exigences en matière de qualité, de sécurité et d’efficacité le permettent et qu’aucun intérêt de la Suisse ni aucun engagement international ne s’y opposent. Cette règle vaut notamment pour: abis.les médicaments dont les principes actifs sont utilisés dans un médicament qui, depuis au moins 10 ans au moment du dépôt de la demande, est autorisé de manière avérée en tant que médicament dans au moins un pays ayant institué un contrôle des médicaments équivalent et dont les indications, le dosage et le mode d’administration sont comparables; ater.les médicaments non soumis à ordonnance avec mention de l’indication et dont l’usage médical est avéré depuis au moins 30 ans au moment du dépôt de la demande, dont au moins 15 ans dans des pays de l’UE ou de l’AELE ou au Royaume-Uni. | H18: Avis favorable | I18: 1 Swissmedic prévoit des procédures simplifiées d’autorisation de mise sur le marché pour certaines catégories de médicaments lorsque les exigences en matière de qualité, de sécurité et d’efficacité le permettent et qu’aucun intérêt de la Suisse ni aucun engagement international ne s’y opposent. Cette règle vaut notamment pour: abis.les médicaments dont les principes actifs sont utilisés dans un médicament qui, depuis au moins 10 ans au moment du dépôt de la demande, est autorisé de manière avérée en tant que médicament dans au moins un pays ayant institué un contrôle des médicaments équivalent et dont les indications, le dosage et le mode d’administration sont comparables; ater.les médicaments non soumis à ordonnance avec mention de l’indication et dont l’usage médical est avéré depuis au moins 30 ans au moment du dépôt de la demande, dont au moins 15 ans dans des pays de l’UE ou de l’AELE ou au Royaume-Uni. | J18: L’extension des procédures d’autorisation simplifiées pour les médicaments éprouvés est saluée, pour autant que la qualité, la sécurité et l’efficacité restent garanties sans changement. | K18: =IFERROR(VLOOKUP(H18,Sheet2!A2:B6,2,FALSE), "") -> CONSENT
A19: 3b27f4cb4c17b812613e30ef13335612587f13a4f33b1f7cba29d4c18aeb9260 | B19: 82249 | C19: 1336 | E19: 48035 | F19: Art. 20, al. 1 | G19: 1 Les médicaments autorisés, ceux qui ne sont pas soumis à une autorisation de mise sur le marché et ceux qui ont été autorisés en vertu de l’art. 9b, al. 2 et 3, peuvent être importés. | H19: Avis favorable | I19: 1 Les médicaments autorisés, ceux qui ne sont pas soumis à une autorisation de mise sur le marché et ceux qui ont été autorisés en vertu de l’art. 9b, al. 2 et 3, peuvent être importés. | K19: =IFERROR(VLOOKUP(H19,Sheet2!A2:B6,2,FALSE), "") -> CONSENT
A20: 3b27f4cb4c17b812613e30ef13335612587f13a4f33b1f7cba29d4c18aeb9260 | B20: 82249 | C20: 1336 | E20: 48036 | F20: Art. 21, al. 1, let. c | G20: 1 L’exportation de médicaments et leur commerce à l’étranger à partir de la Suisse sont interdits: c.Abrogée | H20: Avis favorable | I20: 1 L’exportation de médicaments et leur commerce à l’étranger à partir de la Suisse sont interdits: c.Abrogée | K20: =IFERROR(VLOOKUP(H20,Sheet2!A2:B6,2,FALSE), "") -> CONSENT
A21: 3b27f4cb4c17b812613e30ef13335612587f13a4f33b1f7cba29d4c18aeb9260 | B21: 82249 | C21: 1336 | E21: 48037 | F21: Art. 21, al. 1bis | G21: 1bis L’exportation et le commerce à l’étranger de médicaments dont on peut supposer qu’ils sont destinés à l’exécution d’êtres humains sont interdits, tout comme l’assistance technique au sens de l’art. 3, let. d, de la loi du 29 septembre 2023 sur les biens utilisés pour la torture en lien avec de tels médicaments. | H21: Avis favorable | I21: 1bis L’exportation et le commerce à l’étranger de médicaments dont on peut supposer qu’ils sont destinés à l’exécution d’êtres humains sont interdits, tout comme l’assistance technique au sens de l’art. 3, let. d, de la loi du 29 septembre 2023 sur les biens utilisés pour la torture en lien avec de tels médicaments. | K21: =IFERROR(VLOOKUP(H21,Sheet2!A2:B6,2,FALSE), "") -> CONSENT
A22: 3b27f4cb4c17b812613e30ef13335612587f13a4f33b1f7cba29d4c18aeb9260 | B22: 82249 | C22: 1336 | E22: 48038 | F22: Art. 21, al. 1ter | G22: 1ter Le Conseil fédéral fixe les exigences applicables à l’exportation et au commerce à l’étranger de médicaments pouvant être utilisés pour l’exécution d’êtres humains et celles applicables à la fourniture d’assistance technique en lien avec de tels médicaments. Ce faisant, il tient compte des dispositions de l’UE. | H22: Avis favorable | I22: 1ter Le Conseil fédéral fixe les exigences applicables à l’exportation et au commerce à l’étranger de médicaments pouvant être utilisés pour l’exécution d’êtres humains et celles applicables à la fourniture d’assistance technique en lien avec de tels médicaments. Ce faisant, il tient compte des dispositions de l’UE. | K22: =IFERROR(VLOOKUP(H22,Sheet2!A2:B6,2,FALSE), "") -> CONSENT
A23: 3b27f4cb4c17b812613e30ef13335612587f13a4f33b1f7cba29d4c18aeb9260 | B23: 82249 | C23: 1336 | E23: 48039 | F23: Art. 24, al. 1, let. a, phrase introductive | G23: 1 Sont habilités à remettre des médicaments soumis à ordonnance: a.les pharmaciens, sur ordonnance d’un médecin ou d’un chiropraticien; les pharmaciens peuvent remettre ces médicaments sans une telle ordonnance s’ils ont un contact direct avec la personne concernée, que la remise est consignée, et: | H23: Avis favorable moyennant modifications | I23: 1 Sont autorisés à délivrer des médicaments soumis à prescription : a. les pharmaciens, sur prescription médicale ou chiropratique ; ils peuvent également délivrer ces médicaments sans prescription médicale ou chiropratique s’ils sont en contact direct avec la personne concernée, s’ils consignent la délivrance et s’il s’agit : 1ter Les chiropracteurs et chiropractrices peuvent prescrire des médicaments et des dispositifs médicaux soumis à prescription, dans la mesure où cela est nécessaire à l’exercice de leur profession conformément à la loi sur les professions médicales (LPMéd) et dans le cadre de leur domaine d’activité professionnel. Le Conseil fédéral désigne les médicaments qui peuvent être prescrits par les chiropracteurs et chiropractrices. | J23: L’harmonisation avec le droit des professions médicales est en principe compréhensible. Les chiropracteurs doivent pouvoir, dans le cadre de leur formation et de leur domaine d’activité, établir des ordonnances pouvant être exécutées en toute sécurité juridique dans les pharmacies. La compétence de prescription des chiropracteurs doit être limitée à leur domaine d’activité professionnel reconnu. Le Conseil fédéral doit en définir l’étendue dans une disposition d’exécution. Sans limitation expresse au domaine d’activité professionnel reconnu, il existe un risque de pratiques d’application cantonales divergentes et de responsabilités floues. Les pharmacies doivent pouvoir reconnaître qu’une ordonnance chiropratique relève du domaine de compétence professionnel. L’étendue de la compétence en matière de prescription doit donc être définie concrètement par le Conseil fédéral dans une disposition d’exécution , et cette compétence doit lui être attribuée dans un nouvel alinéa. Les médicaments visés à l’article 4 de l’OPAS peuvent servir de référence. | K23: =IFERROR(VLOOKUP(H23,Sheet2!A2:B6,2,FALSE), "") -> CONSENT_WITH_ADAPTATION
A24: 3b27f4cb4c17b812613e30ef13335612587f13a4f33b1f7cba29d4c18aeb9260 | B24: 82249 | C24: 1336 | E24: 48040 | F24: Art. 27 Vente par correspondance | H24: Avis défavorable | J24: L’ouverture de la vente par correspondance est en principe appropriée, pour autant que la sécurité des patients et l’assurance qualité soient garanties de manière équivalente à celle de la délivrance en pharmacie et que les compétences cantonales en matière d’autorisation et de surveillance soient maintenues. La modification introduite dans le paquet 3a sur l'accès de la VPC aux médecins dispensants doit être refusée. Cette disposition revient à introduire la propharmacie dans l'ensemble de la Suisse. En effet, un médecin dispensant pourrait vendre par VPC des médicaments sur l'ensemble de la Suisse y compris dans les cantons où la propharmacie est interdite. Il y a distorsion de la concurrence et les médecins des cantons qui n'autorisent pas la propharmacie vont vouloir accéder à cette propharmacie en invoquant une inégalité de traitement. De plus, il conviendrait d'avoir deux niveaux d'autorisations: autorisation cantonale pour des structures simples et autorisations swissmedic notamment lorsque ce sont des structures qui font également du commerce de gros et de l'importation. Ceci pourrait se mettre en place comme pour les autorisations de fabrication cantonales versus swissmedic avec une évaluation du risque selon l'annexe 3 OAMéd ou selon le nb d'envois (voir les articles ci-dessous). Enfin, la vente par correspondance de médicaments vétérinaires devrait être explicitement exclue. Celle-ci rompt le lien essentiel entre le vétérinaire traitant et le détenteur d'animaux. Le risque de contournement des ordonnances, le non-respect des délais d'attente indispensables pour éviter les résidus dans les denrées alimentaires et l'affaiblissement du suivi de l'antibiorésistance pourraient en être les conséquences. | K24: =IFERROR(VLOOKUP(H24,Sheet2!A2:B6,2,FALSE), "") -> REJECTION
A25: 3b27f4cb4c17b812613e30ef13335612587f13a4f33b1f7cba29d4c18aeb9260 | B25: 82249 | C25: 1336 | E25: 48041 | F25: Art. 27, al. 1 | G25: 1 Quiconque fait de la vente par correspondance de médicaments doit posséder une autorisation cantonale. | H25: Avis favorable moyennant modifications | I25: 1 Toute entreprise exerçant une activité de vente par correspondance de médicaments doit disposer d’une autorisation cantonale. Les entreprises titulaires d’une autorisation de commerce de gros et effectuant plus de 50 000 envois par an doivent obtenir une autorisation de Swissmedic pour la vente par correspondance. | J25: Il existe des entreprises de vente par correspondance dans lesquelles la pharmacie publique sert principalement de point de remise des médicaments et qui ne pratiquent la vente par correspondance que dans une moindre mesure. Pour ces entreprises de vente par correspondance, une obligation d’autorisation cantonale est justifiée. D’autre part, il existe de grandes entreprises de vente par correspondance qui exploitent une pharmacie publique en se limitant aux exigences minimales, car cela constitue une condition légale pour l’obtention de l’autorisation de vente par correspondance. Dans le cas de ces grandes entreprises de vente par correspondance, qui disposent également d’autorisations de commerce de gros délivrées par Swissmedic, il est souvent difficile d’établir une distinction entre les activités de commerce de gros et celles de vente par correspondance (par exemple en ce qui concerne les importations de médicaments non autorisés et/ou l’expédition à des patients hospitalisés dans des établissements sur la base de contrats conclus avec les titulaires d’autorisation (conformément à l’art. 71 a-d de l’OAMal), bien que ces établissements disposent eux-mêmes d’une autorisation de remise de médicaments). Les grandes entreprises de vente par correspondance revêtent une importance nationale/internationale. La vente par correspondance de ces entreprises devrait être autorisée par Swissmedic au même titre que le commerce de gros. Des distinctions similaires en matière d’obligation d’autorisation et de surveillance en fonction de l’ampleur d’une activité existent déjà pour le commerce de gros par opposition au « commerce de gros occasionnel » (art. 20, al. 2, OAMéd) et pour la manipulation de substances contrôlées (art. 11, al. 4, OEst) et ont fait leurs preuves. | K25: =IFERROR(VLOOKUP(H25,Sheet2!A2:B6,2,FALSE), "") -> CONSENT_WITH_ADAPTATION
A26: 3b27f4cb4c17b812613e30ef13335612587f13a4f33b1f7cba29d4c18aeb9260 | B26: 82249 | C26: 1336 | E26: 48042 | F26: Art. 27, al. 2 | G26: 2 L’autorisation est délivrée si le requérant: a.est titulaire d’une autorisation au sens de l’art. 30; b.dirige une pharmacie publique ou une droguerie; c .dispose d’un système approprié d’assurance de la qualité qui garantit notamment: 1.la fourniture des conseils et des informations techniques nécessaires avant et après la remise, 2.le respect des exigences applicables aux médicaments soumis à ordonnance, 3.un processus sécurisé de commande et de livraison, 4.un transport sûr. | H26: Avis favorable moyennant modifications | I26: L’art. 27, al. 2, devrait être précisé comme suit : Une autorisation est délivrée lorsque : a. la requérante dispose d’une autorisation cantonale au sens de l’article 30 pour l’exploitation d’une pharmacie publique ou d’une droguerie ; b. un système d’assurance qualité approprié est en place, garantissant notamment : 1. la vérification de l’identité sans ambiguïté de la personne passant commande, 2. le conseil et l’information personnalisés avant et après la remise, 3. pour les médicaments soumis à prescription, le respect des exigences correspondantes, 4. la sécurité du processus de commande et de livraison, 5. la sécurité du transport, 6. la documentation du conseil et de la remise. | J26: Il est approprié que la vente par correspondance, conformément au projet, reste réservée aux pharmacies publiques et aux drogueries. Grâce à leur expertise en matière de produits thérapeutiques et à leurs systèmes d’assurance qualité, ces établissements remplissent les conditions requises pour garantir le conseil, le stockage, l’emballage, le transport et la remise tout au long du processus de vente par correspondance. Les autres établissements de remise visés à l’art. 30 LPTh ne disposent pas de ces compétences spécialisées. Les exigences en matière d’assurance qualité, d’identification, de conseil personnalisé et d’information, de sécurité du processus de commande et de livraison, de sécurité du transport, de documentation du conseil et de la remise, de protection des données ainsi que de délimitation par rapport aux services de livraison à domicile et de livraison ultérieure et au commerce de gros doivent être précisées davantage au niveau de l’ordonnance. | K26: =IFERROR(VLOOKUP(H26,Sheet2!A2:B6,2,FALSE), "") -> CONSENT_WITH_ADAPTATION
A27: 3b27f4cb4c17b812613e30ef13335612587f13a4f33b1f7cba29d4c18aeb9260 | B27: 82249 | C27: 1336 | E27: 48043 | F27: Art. 27, al. 3 | G27: 3 Le Conseil fédéral règle les modalités. | H27: Avis favorable | I27: 3 Le Conseil fédéral règle les modalités. | K27: =IFERROR(VLOOKUP(H27,Sheet2!A2:B6,2,FALSE), "") -> CONSENT
A28: 3b27f4cb4c17b812613e30ef13335612587f13a4f33b1f7cba29d4c18aeb9260 | B28: 82249 | C28: 1336 | E28: 48044 | F28: Art. 30a Remise de médicaments à l’unité | G28: Insérer avant le titre de la section 5 | H28: Avis favorable | I28: Insérer avant le titre de la section 5 | J28: La délivrance à l’unité est en principe soutenue, mais elle doit rester une exception pour lutter contre l’antibiorésistance ou en cas de pénurie d’approvisionnement. Toutefois, des défis se posent en matière de sécurité (conservation, stabilité, traçabilité des lots, conformité), de responsabilité, de surcoût et de rémunération des professionnels. La charge de travail supplémentaire que cela représente pour les pharmacies (préparation de la quantité requise, étiquetage, documentation, conseil, assurance qualité) nécessite impérativement une rémunération couvrant les coûts. Swissmedic et l’OFSP tiennent compte, lors de l’autorisation de mise sur le marché et de l’inscription sur la liste des spécialités, de l’adéquation des conditionnements proposés, en particulier pour les antibiotiques. | K28: =IFERROR(VLOOKUP(H28,Sheet2!A2:B6,2,FALSE), "") -> CONSENT
A29: 3b27f4cb4c17b812613e30ef13335612587f13a4f33b1f7cba29d4c18aeb9260 | B29: 82249 | C29: 1336 | E29: 48045 | F29: Art. 30a, al. 1 | G29: 1 Les personnes habilitées à remettre des médicaments peuvent les subdiviser en unités et les remettre à l’unité dans les cas suivants : a. le médicament n’est autorisé que dans des emballages originaux qui contiennent plus d’unités que nécessaire pour un traitement donné, ou b. le médicament est autorisé dans un emballage original qui contient le nombre d’unités nécessaire, mais cet emballage n’est pas disponible au point de remise. | H29: Avis favorable moyennant modifications | I29: Les personnes habilitées à remettre des médicaments conformément aux articles 24, al. 1, let. a et b, LPTh peuvent les subdiviser en unités et les délivrer à l’unité dans les cas suivants : a. le médicament n’est autorisé que dans des emballages originaux contenant plus d’unités que nécessaire pour un traitement donné, ou b. le médicament est autorisé dans un emballage d’origine contenant le nombre d’unités nécessaire, mais cet emballage est temporairement indisponible, en pénurie imminente ou déjà en pénurie | J29: L’indisponibilité au point de vente n’indique pas nécessairement un problème d’approvisionnement et pourrait donner lieu à une interprétation trop large permettant d’optimiser les stocks. | K29: =IFERROR(VLOOKUP(H29,Sheet2!A2:B6,2,FALSE), "") -> CONSENT_WITH_ADAPTATION
A30: 3b27f4cb4c17b812613e30ef13335612587f13a4f33b1f7cba29d4c18aeb9260 | B30: 82249 | C30: 1336 | E30: 48046 | F30: Art. 30a, al. 2 | G30: 2 La remise à l’unité ne peut être effectuée que pour les clients ou les patients de l’établissement. | H30: Avis favorable moyennant modifications | I30: La remise à l’unité ne peut être effectuée que pour les clients d’une pharmacie ou les patients d’un cabinet médical, d’une clinique ou d’un hôpital, conformément aux dispositions de la propharmacie. | J30: La définition des professionnels autorisés à effectuer une remise à l’unité doit être plus claire | K30: =IFERROR(VLOOKUP(H30,Sheet2!A2:B6,2,FALSE), "") -> CONSENT_WITH_ADAPTATION
A31: 3b27f4cb4c17b812613e30ef13335612587f13a4f33b1f7cba29d4c18aeb9260 | B31: 82249 | C31: 1336 | E31: 48047 | F31: Art. 30a, al. 3 | G31: 3 Le Conseil fédéral définit les exigences applicables à la remise à l’unité, notamment: a.l’emballage et son étiquetage; b.la documentation. | H31: Avis favorable moyennant modifications | I31: Le Conseil fédéral définit les exigences applicables à la remise à l’unité, notamment : a. l’emballage et son étiquetage ; b. la documentation relative à la remise ; c. les informations fournies lors de la remise ; d. la conservation ; e. la traçabilité ainsi que les rappels de produits ; f. le montant de la prestation à facturer g. exigences en terme de locaux | J31: La sécurité des patients doit être garantie et la charge de travail supplémentaire (préparation de la quantité partielle, étiquetage, documentation, conseil, assurance qualité) nécessite impérativement une rémunération couvrant les coûts | K31: =IFERROR(VLOOKUP(H31,Sheet2!A2:B6,2,FALSE), "") -> CONSENT_WITH_ADAPTATION
A32: 3b27f4cb4c17b812613e30ef13335612587f13a4f33b1f7cba29d4c18aeb9260 | B32: 82249 | C32: 1336 | E32: 48048 | F32: Art. 30a, al. 4 | G32: 4 Il peut limiter ou étendre comme suit la remise à l’unité: a.la limiter à certains groupes de médicaments; b.la déclarer obligatoire pour certains titulaires d’une autorisation au sens de l’art. 30. | H32: Avis favorable moyennant modifications | I32: Il peut limiter ou étendre la remise à l’unité comme suit : a. la limiter à certains groupes de médicaments ; b. la rendre obligatoire en cas d’indisponibilité temporaire, de pénurie imminente ou déjà effective, ou lorsque cela est nécessaire pour éviter un gaspillage injustifié de médicaments c. la rendre obligatoire pour tous les titulaires d’une autorisation au sens de l’article 30 | J32: L’alinéa 4 doit être adapté afin de garantir une limitation aux groupes de médicaments concernés et d’éviter une obligation qui conduirait à des inégalités de traitement. À long terme, la délivrance à l’unité ne doit pas compenser les déficits structurels liés aux tailles d’emballage. Swissmedic et l’OFSP doivent en outre veiller davantage à ce que les tailles d’emballage soient adaptées au traitement, en particulier pour les antibiotiques, afin d’éviter les quantités résiduelles et les utilisations inappropriées.Si il y a obligation de remise à l'unité, celle-ci doit s'appliquer à tous les titulaires d'une autorisation au sens de l'art.30 médecins et pharmaciens | K32: =IFERROR(VLOOKUP(H32,Sheet2!A2:B6,2,FALSE), "") -> CONSENT_WITH_ADAPTATION
A33: 3b27f4cb4c17b812613e30ef13335612587f13a4f33b1f7cba29d4c18aeb9260 | B33: 82249 | C33: 1336 | E33: 48049 | F33: Art. 32, al. 2, let. a et c | G33: 2 Est illicite la publicité destinée au public pour les médicaments: a.qui ne peuvent être remis que sur ordonnance d’un médecin ou d’un chiropraticien; c.qui, du fait de leur composition et de l’usage auquel ils sont destinés, ne peuvent pas être utilisés pour le diagnostic, la prescription ou le traitement correspondant sans l’intervention d’un médecin ou d’un chiropraticien; | H33: Avis favorable | I33: 2 Est illicite la publicité destinée au public pour les médicaments: a.qui ne peuvent être remis que sur ordonnance d’un médecin ou d’un chiropraticien; c.qui, du fait de leur composition et de l’usage auquel ils sont destinés, ne peuvent pas être utilisés pour le diagnostic, la prescription ou le traitement correspondant sans l’intervention d’un médecin ou d’un chiropraticien; | K33: =IFERROR(VLOOKUP(H33,Sheet2!A2:B6,2,FALSE), "") -> CONSENT
A34: 3b27f4cb4c17b812613e30ef13335612587f13a4f33b1f7cba29d4c18aeb9260 | B34: 82249 | C34: 1336 | E34: 48050 | F34: Art. 42, al. 3 | G34: 3 Le Conseil fédéral peut interdire que des médicaments qui ne sont pas soumis à autorisation conformément à l’art. 9, al. 2, ou à l’art. 9cbis soient prescrits, remis ou utilisés en vue de soigner des animaux de rente. Il peut aussi restreindre la prescription, la remise ou l’utilisation de ces médicaments. | H34: Avis favorable | I34: 3 Le Conseil fédéral peut interdire que des médicaments qui ne sont pas soumis à autorisation conformément à l’art. 9, al. 2, ou à l’art. 9cbis soient prescrits, remis ou utilisés en vue de soigner des animaux de rente. Il peut aussi restreindre la prescription, la remise ou l’utilisation de ces médicaments. | J34: Vétérinaire cantonal | K34: =IFERROR(VLOOKUP(H34,Sheet2!A2:B6,2,FALSE), "") -> CONSENT
A35: 3b27f4cb4c17b812613e30ef13335612587f13a4f33b1f7cba29d4c18aeb9260 | B35: 82249 | C35: 1336 | E35: 48051 | F35: Art. 46a Reconnaissance de certificats de conformité délivrés en vertu du droit de l’UE | H35: Avis favorable | J35: La base juridique permettant la reconnaissance unilatérale des certificats de conformité de l’UE/EEE est saluée, pour autant qu’elle facilite l’approvisionnement en dispositifs médicaux. | K35: =IFERROR(VLOOKUP(H35,Sheet2!A2:B6,2,FALSE), "") -> CONSENT
A36: 3b27f4cb4c17b812613e30ef13335612587f13a4f33b1f7cba29d4c18aeb9260 | B36: 82249 | C36: 1336 | E36: 48052 | F36: Art. 46a, al. 1 | G36: 1 Le Conseil fédéral peut prévoir que les certificats de conformité des dispositifs médicaux qui ne sont pas reconnus en vertu d’un accord international sont des preuves de conformité au sens de l’art. 46, al. 1, s’ils sont délivrés par des organes d’évaluation de la conformité désignés en vertu du droit de l’UE et établis dans un État de l’UE ou de l’EEE. | H36: Avis favorable | I36: 1 Le Conseil fédéral peut prévoir que les certificats de conformité des dispositifs médicaux qui ne sont pas reconnus en vertu d’un accord international sont des preuves de conformité au sens de l’art. 46, al. 1, s’ils sont délivrés par des organes d’évaluation de la conformité désignés en vertu du droit de l’UE et établis dans un État de l’UE ou de l’EEE. | K36: =IFERROR(VLOOKUP(H36,Sheet2!A2:B6,2,FALSE), "") -> CONSENT
A37: 3b27f4cb4c17b812613e30ef13335612587f13a4f33b1f7cba29d4c18aeb9260 | B37: 82249 | C37: 1336 | E37: 48053 | F37: Art. 46a, al. 2 | G37: 2 Il fixe les conditions de reconnaissance de ces certificats. | H37: Avis favorable | I37: 2 Il fixe les conditions de reconnaissance de ces certificats. | K37: =IFERROR(VLOOKUP(H37,Sheet2!A2:B6,2,FALSE), "") -> CONSENT
A38: 3b27f4cb4c17b812613e30ef13335612587f13a4f33b1f7cba29d4c18aeb9260 | B38: 82249 | C38: 1336 | E38: 48054 | F38: Art. 48, al. 1, let. a | G38: 1 En vue de protéger la santé, le Conseil fédéral peut, pour certains dispositifs médicaux: a.prévoir qu’ils ne pourront être remis que sur ordonnance d’un médecin ou d’un chiropraticien; | H38: Avis favorable moyennant modifications | I38: 1 Afin de protéger la santé, le Conseil fédéral peut, pour certains dispositifs médicaux : a. prévoir qu’ils ne puissent être délivrés que sur ordonnance médicale ou chiropratique ; ... d. les chiropractrices et chiropracteurs peuvent prescrire des dispositifs médicaux dans la mesure où cela est nécessaire à l’exercice de leur profession conformément à la loi sur les professions médicales (LPM) et dans le cadre de leur domaine d’activité spécialisé. Le Conseil fédéral désigne les dispositifs médicaux pouvant être prescrits par les chiropractrices et chiropracteurs. | J38: Ces adaptations découlent logiquement des modifications apportées à l’art. 24. Pour les dispositifs médicaux également, il convient que le Conseil fédéral détermine quels dispositifs médicaux peuvent être prescrits par les chiropracteurs ; cf. à ce sujet nos commentaires sur l’art. 24. | K38: =IFERROR(VLOOKUP(H38,Sheet2!A2:B6,2,FALSE), "") -> CONSENT_WITH_ADAPTATION
A39: 3b27f4cb4c17b812613e30ef13335612587f13a4f33b1f7cba29d4c18aeb9260 | B39: 82249 | C39: 1336 | E39: 48055 | F39: Art. 65 Émoluments | H39: Avis favorable | J39: Il faut veiller que ces dispositions d'aient pas d'incidnces sur la disponibilité des DIM sur le marché suisse. Il convient de monitorer les effets de ces mesures en lien avec les émoluments | K39: =IFERROR(VLOOKUP(H39,Sheet2!A2:B6,2,FALSE), "") -> CONSENT
A40: 3b27f4cb4c17b812613e30ef13335612587f13a4f33b1f7cba29d4c18aeb9260 | B40: 82249 | C40: 1336 | E40: 48056 | F40: Art. 65, al. 1 | G40: 1 Swissmedic et les autres autorités chargées de l’exécution de la présente loi perçoivent des émoluments pour les autorisations qu’ils délivrent, les contrôles qu’ils effectuent et les services qu’ils fournissent. En outre, Swissmedic peut percevoir des émoluments pour la réception des déclarations. | H40: Avis favorable | I40: 1 Swissmedic et les autres autorités chargées de l’exécution de la présente loi perçoivent des émoluments pour les autorisations qu’ils délivrent, les contrôles qu’ils effectuent et les services qu’ils fournissent. En outre, Swissmedic peut percevoir des émoluments pour la réception des déclarations. | K40: =IFERROR(VLOOKUP(H40,Sheet2!A2:B6,2,FALSE), "") -> CONSENT
...

Sheet Sheet1
A1: KEY | B1: VALUE
A2: Avis favorable | B2: CONSENT
A3: Avis plutôt favorable | B3: RATHER_AGREEMENT
A4: Avis neutre | B4: NEUTRAL_ATTITUDE
A5: Avis plutôt défavorable | B5: DISAPPROVAL
A6: Avis défavorable | B6: RATHER_DISAPPROVAL
A7: Renonciation à l'avis | B7: DISCLAIMER

Sheet Sheet2
A1: KEY | B1: VALUE
A2: Avis favorable | B2: CONSENT
A3: Avis favorable moyennant modifications | B3: CONSENT_WITH_ADAPTATION
A4: Avis neutre | B4: NEURAL_ATITUDE
A5: Avis défavorable | B5: REJECTION
A6: Abstention | B6: ABSTENTION
